BEGIN:VCALENDAR
VERSION:2.0
PRODID:-//Tukios.com/
BEGIN:VEVENT
UID:f9f54ecc-708e-423f-ae32-e20538032465@www.hughestaylor.net
DTSTAMP:20260421T210121Z
DTSTART:20260425T130000Z
DTEND:20260425T150000Z
SUMMARY:Visitation
DESCRIPTION:
URL:https://www.hughestaylor.net/obituaries/barry-martin
LOCATION:Borden Church of Christ 426 West Water Street  Borden IN 47106
GEO:38.468056;-85.953374
END:VEVENT
END:VCALENDAR