BEGIN:VCALENDAR
VERSION:2.0
PRODID:-//Tukios.com/
BEGIN:VEVENT
UID:1dec71c6-60f5-40c8-9992-5245d3883d3d@www.hughestaylor.net
DTSTAMP:20260421T210232Z
DTSTART:20260424T200000Z
DTEND:20260425T000000Z
SUMMARY:Visitation
DESCRIPTION:
URL:https://www.hughestaylor.net/obituaries/barry-martin
LOCATION: 426 West Water Street  Borden IN 47106
GEO:38.468056;-85.953374
END:VEVENT
END:VCALENDAR