BEGIN:VCALENDAR
VERSION:2.0
PRODID:-//Tukios.com/
BEGIN:VEVENT
UID:42e3bcb9-e707-4e18-b01d-f8c0676962e5@www.hughestaylor.net
DTSTAMP:20260421T205805Z
DTSTART:20260425T150000Z
DTEND:20260425T160000Z
SUMMARY:Funeral Service
DESCRIPTION:
URL:https://www.hughestaylor.net/obituaries/barry-martin
LOCATION:Borden Church of Christ 426 West Water Street  Borden IN 47106
GEO:38.468056;-85.953374
END:VEVENT
END:VCALENDAR